Workbook

Sheet graf. prikaz 2026

Sheet siječanj 2026
B2: Otkupljen strani gotov novac u siječnju 2026.
B4: Valuta | D4: Ukupan iznos otkupa
B5: Brojčana oznaka | C5: Troslovna oznaka | D5: U originalnoj valuti | E5: U eurima
B6: 036 | C6: AUD | D6: 835995 | E6: 472788
B7: 124 | C7: CAD | D7: 325085 | E7: 195253
B8: 203 | C8: CZK | D8: 255000 | E8: 9900
B9: 208 | C9: DKK | D9: 133750 | E9: 15716
B10: 348 | C10: HUF | D10: 141173040 | E10: 348237
B11: 392 | C11: JPY | D11: 2334000 | E11: 12332
B12: 578 | C12: NOK | D12: 16400 | E12: 968
B13: 643 | C13: RUB | D13: 0 | E13: 0
B14: 752 | C14: SEK | D14: 32050 | E14: 2029
B15: 756 | C15: CHF | D15: 2657980 | E15: 2804184
B16: 826 | C16: GBP | D16: 328905 | E16: 367231
B17: 840 | C17: USD | D17: 7358397 | E17: 6132481
... B22: 985 | C22: PLN | D22: 262980 | E22: 60839
B23: ostale | C23: valute | E23: 66
B24: Ukupno | E24: =SUM(E6:E23) -> 11183193
B25: Ukupno u milijunima eura | E25: =+E24/1000000 -> 11.183193
B28: Prodan strani gotov novac u siječnju 2026.
B30: Valuta | D30: Ukupan iznos prodaje
B31: Brojčana oznaka | C31: Troslovna oznaka | D31: U originalnoj valuti | E31: U eurima
B32: 036 | C32: AUD | D32: 40620 | E32: 23787
B33: 124 | C33: CAD | D33: 25805 | E33: 16168
B34: 203 | C34: CZK | D34: 167200 | E34: 7251
B35: 208 | C35: DKK | D35: 3050 | E35: 413
B36: 348 | C36: HUF | D36: 134541300 | E36: 330854
B37: 392 | C37: JPY | D37: 1619000 | E37: 9223
B38: 578 | C38: NOK | D38: 13500 | E38: 1088
B39: 643 | C39: RUB | D39: 150 | E39: 2
B40: 752 | C40: SEK | D40: 200 | E40: 19
B41: 756 | C41: CHF | D41: 380690 | E41: 416595
B42: 826 | C42: GBP | D42: 91480 | E42: 115665
B43: 840 | C43: USD | D43: 802325 | E43: 696980
B44: 941 | C44: RSD | D44: 449500 | E44: 4188
B45: 946 | C45: RON | D45: 0 | E45: 0
... B48: 985 | C48: PLN | D48: 10460 | E48: 2601
B49: ostale | C49: valute | E49: 60
B50: Ukupno | E50: =SUM(E32:E49) -> 2274729
B51: Ukupno u milijunima eura | E51: =+E50/1000000 -> 2.274729
B54: Otkupljeni čekovi koji glase na stranu valutu u siječnju 2026.
B56: Valuta | D56: Ukupan iznos otkupa
B57: Brojčana oznaka | C57: Troslovna oznaka | D57: U originalnoj valuti | E57: U eurima
B58: 036 | C58: AUD | D58: 0 | E58: 0
B59: 124 | C59: CAD | D59: 0 | E59: 0
B60: 203 | C60: CZK | D60: 0 | E60: 0
B61: 208 | C61: DKK | D61: 0 | E61: 0
B62: 348 | C62: HUF | D62: 0 | E62: 0
B63: 392 | C63: JPY | D63: 0 | E63: 0
B64: 578 | C64: NOK | D64: 0 | E64: 0
B65: 752 | C65: SEK | D65: 0 | E65: 0
B66: 756 | C66: CHF | D66: 0 | E66: 0
B67: 826 | C67: GBP | D67: 0 | E67: 0
B68: 840 | C68: USD | D68: 0 | E68: 0
B69: 941 | C69: RSD | D69: 0 | E69: 0
B70: 977 | C70: BAM | D70: 0 | E70: 0
B71: 985 | C71: PLN | D71: 0 | E71: 0
B72: ostale | C72: valute | E72: 0
B73: Ukupno | E73: =SUM(E58:E72) -> 0
B74: Ukupno u milijunima eura | E74: =+E73/1000000 -> 0
B77: Ukupan promet ovlaštenih mjenjača u siječnju 2026.
B78: u milijunima eura
B80: Otkup strane gotovine i čekova | E80: =+E25+E74 -> 11.183193
B81: Prodaja strane gotovine | E81: =+E51 -> 2.274729

Sheet veljača 2026
B2: Otkupljen strani gotov novac u veljači 2026.
B4: Valuta | D4: Ukupan iznos otkupa
B5: Brojčana oznaka | C5: Troslovna oznaka | D5: U originalnoj valuti | E5: U eurima
B6: 036 | C6: AUD | D6: 830505 | E6: 484333
B7: 124 | C7: CAD | D7: 444280 | E7: 268813
B8: 203 | C8: CZK | D8: 247800 | E8: 9486
B9: 208 | C9: DKK | D9: 85650 | E9: 9672
B10: 348 | C10: HUF | D10: 170148710 | E10: 427965
B11: 392 | C11: JPY | D11: 412000 | E11: 1961
B12: 578 | C12: NOK | D12: 9950 | E12: 600
B13: 643 | C13: RUB | D13: 0 | E13: 0
B14: 752 | C14: SEK | D14: 18980 | E14: 1189
B15: 756 | C15: CHF | D15: 2426530 | E15: 2588897
B16: 826 | C16: GBP | D16: 281235 | E16: 313765
B17: 840 | C17: USD | D17: 8103619 | E17: 6710026
... B22: 985 | C22: PLN | D22: 199015 | E22: 45313
B23: ostale | C23: valute | E23: 36
B24: Ukupno | E24: =SUM(E6:E23) -> 11550188
B25: Ukupno u milijunima eura | E25: =+E24/1000000 -> 11.550188
B28: Prodan strani gotov novac u veljači 2026.
B30: Valuta | D30: Ukupan iznos prodaje
B31: Brojčana oznaka | C31: Troslovna oznaka | D31: U originalnoj valuti | E31: U eurima
B32: 036 | C32: AUD | D32: 41025 | E32: 24484
B33: 124 | C33: CAD | D33: 45275 | E33: 28210
B34: 203 | C34: CZK | D34: 156000 | E34: 5740
B35: 208 | C35: DKK | D35: 32900 | E35: 4040
B36: 348 | C36: HUF | D36: 140191210 | E36: 360893
B37: 392 | C37: JPY | D37: 741000 | E37: 4159
B38: 578 | C38: NOK | D38: 14150 | E38: 1140
B39: 643 | C39: RUB | D39: 0 | E39: 0
B40: 752 | C40: SEK | D40: 3020 | E40: 294
B41: 756 | C41: CHF | D41: 269100 | E41: 298395
B42: 826 | C42: GBP | D42: 102340 | E42: 120353
B43: 840 | C43: USD | D43: 813573 | E43: 697680
B44: 941 | C44: RSD | D44: 638710 | E44: 6078
B45: 946 | C45: RON | D45: 0 | E45: 0
... B48: 985 | C48: PLN | D48: 51665 | E48: 12824
B49: ostale | C49: valute | E49: 50
B50: Ukupno | E50: =SUM(E32:E49) -> 2182262
B51: Ukupno u milijunima eura | E51: =+E50/1000000 -> 2.182262
B54: Otkupljeni čekovi koji glase na stranu valutu u veljači 2026.
B56: Valuta | D56: Ukupan iznos otkupa
B57: Brojčana oznaka | C57: Troslovna oznaka | D57: U originalnoj valuti | E57: U eurima
B58: 036 | C58: AUD | D58: 0 | E58: 0
B59: 124 | C59: CAD | D59: 0 | E59: 0
B60: 203 | C60: CZK | D60: 0 | E60: 0
B61: 208 | C61: DKK | D61: 0 | E61: 0
B62: 348 | C62: HUF | D62: 0 | E62: 0
B63: 392 | C63: JPY | D63: 0 | E63: 0
B64: 578 | C64: NOK | D64: 0 | E64: 0
B65: 752 | C65: SEK | D65: 0 | E65: 0
B66: 756 | C66: CHF | D66: 0 | E66: 0
B67: 826 | C67: GBP | D67: 0 | E67: 0
B68: 840 | C68: USD | D68: 0 | E68: 0
B69: 941 | C69: RSD | D69: 0 | E69: 0
B70: 977 | C70: BAM | D70: 0 | E70: 0
B71: 985 | C71: PLN | D71: 0 | E71: 0
B72: ostale | C72: valute | E72: 0
B73: Ukupno | E73: =SUM(E58:E72) -> 0
B74: Ukupno u milijunima eura | E74: =+E73/1000000 -> 0
B77: Ukupan promet ovlaštenih mjenjača u veljači 2026.
B78: u milijunima eura
B80: Otkup strane gotovine i čekova | E80: =+E25+E74 -> 11.550188
B81: Prodaja strane gotovine | E81: =+E51 -> 2.182262

Sheet ožujak 2026
B2: Otkupljen strani gotov novac u ožujku 2026.
B4: Valuta | D4: Ukupan iznos otkupa
B5: Brojčana oznaka | C5: Troslovna oznaka | D5: U originalnoj valuti | E5: U eurima
B6: 036 | C6: AUD | D6: 812255 | E6: 483142
B7: 124 | C7: CAD | D7: 676050 | E7: 417002
B8: 203 | C8: CZK | D8: 394910 | E8: 15367
B9: 208 | C9: DKK | D9: 3450 | E9: 321
B10: 348 | C10: HUF | D10: 175553900 | E10: 427618
B11: 392 | C11: JPY | D11: 1769000 | E11: 9156
B12: 578 | C12: NOK | D12: 6600 | E12: 405
B13: 643 | C13: RUB | D13: 11110 | E13: 81
B14: 752 | C14: SEK | D14: 17990 | E14: 1137
B15: 756 | C15: CHF | D15: 1983370 | E15: 2129721
B16: 826 | C16: GBP | D16: 488991 | E16: 551850
B17: 840 | C17: USD | D17: 9202629 | E17: 7671009
... B22: 985 | C22: PLN | D22: 241635 | E22: 55205
B23: ostale | C23: valute | E23: 6519
B24: Ukupno | E24: =SUM(E6:E23) -> 12527536
B25: Ukupno u milijunima eura | E25: =+E24/1000000 -> 12.527536
B28: Prodan strani gotov novac u ožujku 2026.
B30: Valuta | D30: Ukupan iznos prodaje
B31: Brojčana oznaka | C31: Troslovna oznaka | D31: U originalnoj valuti | E31: U eurima
B32: 036 | C32: AUD | D32: 38395 | E32: 23368
B33: 124 | C33: CAD | D33: 38725 | E33: 24634
B34: 203 | C34: CZK | D34: 489610 | E34: 21129
B35: 208 | C35: DKK | D35: 266650 | E35: 32314
B36: 348 | C36: HUF | D36: 86793900 | E36: 217999
B37: 392 | C37: JPY | D37: 1833000 | E37: 10472
B38: 578 | C38: NOK | D38: 45600 | E38: 3758
B39: 643 | C39: RUB | D39: 0 | E39: 0
B40: 752 | C40: SEK | D40: 49330 | E40: 4656
B41: 756 | C41: CHF | D41: 281930 | E41: 315432
B42: 826 | C42: GBP | D42: 126975 | E42: 149368
B43: 840 | C43: USD | D43: 745700 | E43: 653168
B44: 941 | C44: RSD | D44: 1760610 | E44: 16126
B45: 946 | C45: RON | D45: 1178 | E45: 241
... B48: 985 | C48: PLN | D48: 26420 | E48: 6562
B49: ostale | C49: valute | E49: 1321
B50: Ukupno | E50: =SUM(E32:E49) -> 2149815
B51: Ukupno u milijunima eura | E51: =+E50/1000000 -> 2.149815
B54: Otkupljeni čekovi koji glase na stranu valutu u ožujku 2026.
B56: Valuta | D56: Ukupan iznos otkupa
B57: Brojčana oznaka | C57: Troslovna oznaka | D57: U originalnoj valuti | E57: U eurima
B58: 036 | C58: AUD | D58: 0 | E58: 0
B59: 124 | C59: CAD | D59: 0 | E59: 0
B60: 203 | C60: CZK | D60: 0 | E60: 0
B61: 208 | C61: DKK | D61: 0 | E61: 0
B62: 348 | C62: HUF | D62: 0 | E62: 0
B63: 392 | C63: JPY | D63: 0 | E63: 0
B64: 578 | C64: NOK | D64: 0 | E64: 0
B65: 752 | C65: SEK | D65: 0 | E65: 0
B66: 756 | C66: CHF | D66: 0 | E66: 0
B67: 826 | C67: GBP | D67: 0 | E67: 0
B68: 840 | C68: USD | D68: 0 | E68: 0
B69: 941 | C69: RSD | D69: 0 | E69: 0
B70: 977 | C70: BAM | D70: 0 | E70: 0
B71: 985 | C71: PLN | D71: 0 | E71: 0
B72: ostale | C72: valute | E72: 0
B73: Ukupno | E73: =SUM(E58:E72) -> 0
B74: Ukupno u milijunima eura | E74: =+E73/1000000 -> 0
B77: Ukupan promet ovlaštenih mjenjača u ožujku 2026.
B78: u milijunima eura
B80: Otkup strane gotovine i čekova | E80: =+E25+E74 -> 12.527536
B81: Prodaja strane gotovine | E81: =+E51 -> 2.149815

Sheet travanj 2026
B2: Otkupljen strani gotov novac u travnju 2026.
B4: Valuta | D4: Ukupan iznos otkupa
B5: Brojčana oznaka | C5: Troslovna oznaka | D5: U originalnoj valuti | E5: U eurima
B6: 036 | C6: AUD | D6: 797885 | E6: 471633
B7: 124 | C7: CAD | D7: 533120 | E7: 322768
B8: 203 | C8: CZK | D8: 1964450 | E8: 78198
B9: 208 | C9: DKK | D9: 14600 | E9: 1375
B10: 348 | C10: HUF | D10: 184945700 | E10: 473513
B11: 392 | C11: JPY | D11: 1262000 | E11: 6459
B12: 578 | C12: NOK | D12: 18000 | E12: 1118
B13: 643 | C13: RUB | D13: 37000 | E13: 270
B14: 752 | C14: SEK | D14: 35250 | E14: 2216
B15: 756 | C15: CHF | D15: 2462010 | E15: 2609103
B16: 826 | C16: GBP | D16: 535690 | E16: 597473
B17: 840 | C17: USD | D17: 7425091 | E17: 6086314
... B22: 985 | C22: PLN | D22: 348640 | E22: 79583
B23: ostale | C23: valute | E23: 4799
B24: Ukupno | E24: =SUM(E6:E23) -> 11608388
B25: Ukupno u milijunima eura | E25: =+E24/1000000 -> 11.608388
B28: Prodan strani gotov novac u travnju 2026.
B30: Valuta | D30: Ukupan iznos prodaje
B31: Brojčana oznaka | C31: Troslovna oznaka | D31: U originalnoj valuti | E31: U eurima
B32: 036 | C32: AUD | D32: 31860 | E32: 18755
B33: 124 | C33: CAD | D33: 23830 | E33: 14890
B34: 203 | C34: CZK | D34: 451100 | E34: 19532
B35: 208 | C35: DKK | D35: 4850 | E35: 675
B36: 348 | C36: HUF | D36: 160425600 | E36: 421658
B37: 392 | C37: JPY | D37: 1099000 | E37: 6179
B38: 578 | C38: NOK | D38: 550 | E38: 50
B39: 643 | C39: RUB | D39: 1500 | E39: 20
B40: 752 | C40: SEK | D40: 5410 | E40: 530
B41: 756 | C41: CHF | D41: 303750 | E41: 335407
B42: 826 | C42: GBP | D42: 151305 | E42: 177937
B43: 840 | C43: USD | D43: 572046 | E43: 496945
B44: 941 | C44: RSD | D44: 1745620 | E44: 16088
B45: 946 | C45: RON | D45: 1152 | E45: 236
... B48: 985 | C48: PLN | D48: 71835 | E48: 16520
B49: ostale | C49: valute | E49: 3632
B50: Ukupno | E50: =SUM(E32:E49) -> 2337661
B51: Ukupno u milijunima eura | E51: =+E50/1000000 -> 2.337661
B54: Otkupljeni čekovi koji glase na stranu valutu u travnju 2026.
B56: Valuta | D56: Ukupan iznos otkupa
B57: Brojčana oznaka | C57: Troslovna oznaka | D57: U originalnoj valuti | E57: U eurima
B58: 036 | C58: AUD | D58: 0 | E58: 0
B59: 124 | C59: CAD | D59: 0 | E59: 0
B60: 203 | C60: CZK | D60: 0 | E60: 0
B61: 208 | C61: DKK | D61: 0 | E61: 0
B62: 348 | C62: HUF | D62: 0 | E62: 0
B63: 392 | C63: JPY | D63: 0 | E63: 0
B64: 578 | C64: NOK | D64: 0 | E64: 0
B65: 752 | C65: SEK | D65: 0 | E65: 0
B66: 756 | C66: CHF | D66: 0 | E66: 0
B67: 826 | C67: GBP | D67: 0 | E67: 0
B68: 840 | C68: USD | D68: 0 | E68: 0
B69: 941 | C69: RSD | D69: 0 | E69: 0
B70: 977 | C70: BAM | D70: 0 | E70: 0
B71: 985 | C71: PLN | D71: 0 | E71: 0
B72: ostale | C72: valute | E72: 0
B73: Ukupno | E73: =SUM(E58:E72) -> 0
B74: Ukupno u milijunima eura | E74: =+E73/1000000 -> 0
B77: Ukupan promet ovlaštenih mjenjača u travnju 2026.
B78: u milijunima eura
B80: Otkup strane gotovine i čekova | E80: =+E25+E74 -> 11.608388
B81: Prodaja strane gotovine | E81: =+E51 -> 2.337661

Sheet svibanj 2026
B2: Otkupljen strani gotov novac u svibnju 2026.
B4: Valuta | D4: Ukupan iznos otkupa
B5: Brojčana oznaka | C5: Troslovna oznaka | D5: U originalnoj valuti | E5: U eurima
B6: 036 | C6: AUD | D6: 1001400 | E6: 597089
B7: 124 | C7: CAD | D7: 708565 | E7: 430420
B8: 203 | C8: CZK | D8: 986310 | E8: 38303
B9: 208 | C9: DKK | D9: 41050 | E9: 3811
B10: 348 | C10: HUF | D10: 206441400 | E10: 544403
B11: 392 | C11: JPY | D11: 2585000 | E11: 13033
B12: 578 | C12: NOK | D12: 13850 | E12: 841
B13: 643 | C13: RUB | D13: 21000 | E13: 153
B14: 752 | C14: SEK | D14: 15710 | E14: 999
B15: 756 | C15: CHF | D15: 2050650 | E15: 2185858
B16: 826 | C16: GBP | D16: 557660 | E16: 622784
B17: 840 | C17: USD | D17: 9285111 | E17: 7745408
... B21: 985 | C21: PLN | D21: 183760 | E21: 40959
B22: ostale | C22: valute | E22: 10425
B23: Ukupno | E23: =SUM(E6:E22) -> 13016150
B24: Ukupno u milijunima eura | E24: =+E23/1000000 -> 13.01615
B27: Prodan strani gotov novac u svibnju 2026.
B29: Valuta | D29: Ukupan iznos prodaje
B30: Brojčana oznaka | C30: Troslovna oznaka | D30: U originalnoj valuti | E30: U eurima
B31: 036 | C31: AUD | D31: 30900 | E31: 18952
B32: 124 | C32: CAD | D32: 75775 | E32: 47911
B33: 203 | C33: CZK | D33: 317710 | E33: 13893
B34: 208 | C34: DKK | D34: 1550 | E34: 216
B35: 348 | C35: HUF | D35: 174367000 | E35: 473268
B36: 392 | C36: JPY | D36: 718000 | E36: 4059
B37: 578 | C37: NOK | D37: 5600 | E37: 521
B38: 643 | C38: RUB | D38: 48000 | E38: 558
B39: 752 | C39: SEK | D39: 12050 | E39: 1146
B40: 756 | C40: CHF | D40: 212440 | E40: 236501
B41: 826 | C41: GBP | D41: 147775 | E41: 174311
B42: 840 | C42: USD | D42: 545852 | E42: 475495
B43: 941 | C43: RSD | D43: 2467920 | E43: 22608
B44: 946 | C44: RON | D44: 2928 | E44: 600
... B46: 985 | C46: PLN | D46: 32330 | E46: 8000
B47: ostale | C47: valute | E47: 2533
B48: Ukupno | E48: =SUM(E31:E47) -> 2125406
B49: Ukupno u milijunima eura | E49: =+E48/1000000 -> 2.125406
B52: Otkupljeni čekovi koji glase na stranu valutu u svibnju 2026.
B54: Valuta | D54: Ukupan iznos otkupa
B55: Brojčana oznaka | C55: Troslovna oznaka | D55: U originalnoj valuti | E55: U eurima
B56: 036 | C56: AUD | D56: 0 | E56: 0
B57: 124 | C57: CAD | D57: 0 | E57: 0
B58: 203 | C58: CZK | D58: 0 | E58: 0
B59: 208 | C59: DKK | D59: 0 | E59: 0
B60: 348 | C60: HUF | D60: 0 | E60: 0
B61: 392 | C61: JPY | D61: 0 | E61: 0
B62: 578 | C62: NOK | D62: 0 | E62: 0
B63: 752 | C63: SEK | D63: 0 | E63: 0
B64: 756 | C64: CHF | D64: 0 | E64: 0
B65: 826 | C65: GBP | D65: 0 | E65: 0
B66: 840 | C66: USD | D66: 0 | E66: 0
B67: 941 | C67: RSD | D67: 0 | E67: 0
B68: 977 | C68: BAM | D68: 0 | E68: 0
B69: 985 | C69: PLN | D69: 0 | E69: 0
B70: ostale | C70: valute | E70: 0
B71: Ukupno | E71: =SUM(E56:E70) -> 0
B72: Ukupno u milijunima eura | E72: =+E71/1000000 -> 0
B75: Ukupan promet ovlaštenih mjenjača u svibnju 2026.
B76: u milijunima eura
B78: Otkup strane gotovine i čekova | E78: =+E24+E72 -> 13.01615
B79: Prodaja strane gotovine | E79: =+E49 -> 2.125406

Sheet lipanj 2026
B2: Otkupljen strani gotov novac u lipnju 2026.
B4: Valuta | D4: Ukupan iznos otkupa
B5: Brojčana oznaka | C5: Troslovna oznaka | D5: U originalnoj valuti | E5: U eurima
B6: 036 | C6: AUD | D6: 1059345 | E6: 619818
B7: 124 | C7: CAD | D7: 791585 | E7: 473793
B8: 203 | C8: CZK | D8: 3227300 | E8: 126772
B9: 208 | C9: DKK | D9: 6000 | E9: 564
B10: 348 | C10: HUF | D10: 232557500 | E10: 622346
B11: 392 | C11: JPY | D11: 2105000 | E11: 10131
B12: 578 | C12: NOK | D12: 42050 | E12: 2474
B13: 643 | C13: RUB | D13: 9000 | E13: 66
B14: 752 | C14: SEK | D14: 68290 | E14: 4333
B15: 756 | C15: CHF | D15: 2293620 | E15: 2432825
B16: 826 | C16: GBP | D16: 567360 | E16: 628474
B17: 840 | C17: USD | D17: 10914348 | E17: 9203072
... B21: 985 | C21: PLN | D21: 404390 | E21: 88820
B22: ostale | C22: valute | E22: 6923
B23: Ukupno | E23: =SUM(E6:E22) -> 14973613
B24: Ukupno u milijunima eura | E24: =+E23/1000000 -> 14.973613
B27: Prodan strani gotov novac u lipnju 2026.
B29: Valuta | D29: Ukupan iznos prodaje
B30: Brojčana oznaka | C30: Troslovna oznaka | D30: U originalnoj valuti | E30: U eurima
B31: 036 | C31: AUD | D31: 47500 | E31: 29247
B32: 124 | C32: CAD | D32: 172895 | E32: 109170
B33: 203 | C33: CZK | D33: 481700 | E33: 20778
B34: 208 | C34: DKK | D34: 24850 | E34: 3372
B35: 348 | C35: HUF | D35: 191255983 | E35: 525879
B36: 392 | C36: JPY | D36: 953000 | E36: 5357
B37: 578 | C37: NOK | D37: 7550 | E37: 695
B38: 643 | C38: RUB | D38: 5000 | E38: 58
B39: 752 | C39: SEK | D39: 7040 | E39: 688
B40: 756 | C40: CHF | D40: 234665 | E40: 254680
B41: 826 | C41: GBP | D41: 156497 | E41: 184642
B42: 840 | C42: USD | D42: 1144006 | E42: 1009967
B43: 941 | C43: RSD | D43: 1719920 | E43: 15766
B44: 946 | C44: RON | D44: 975 | E44: 200
... B46: 985 | C46: PLN | D46: 56500 | E46: 13695
B47: ostale | C47: valute | E47: 1500
B48: Ukupno | E48: =SUM(E31:E47) -> 2916365
B49: Ukupno u milijunima eura | E49: =+E48/1000000 -> 2.916365
B52: Otkupljeni čekovi koji glase na stranu valutu u lipnju 2026.
B54: Valuta | D54: Ukupan iznos otkupa
B55: Brojčana oznaka | C55: Troslovna oznaka | D55: U originalnoj valuti | E55: U eurima
B56: 036 | C56: AUD | D56: 0 | E56: 0
B57: 124 | C57: CAD | D57: 0 | E57: 0
B58: 203 | C58: CZK | D58: 0 | E58: 0
B59: 208 | C59: DKK | D59: 0 | E59: 0
B60: 348 | C60: HUF | D60: 0 | E60: 0
B61: 392 | C61: JPY | D61: 0 | E61: 0
B62: 578 | C62: NOK | D62: 0 | E62: 0
B63: 752 | C63: SEK | D63: 0 | E63: 0
B64: 756 | C64: CHF | D64: 0 | E64: 0
B65: 826 | C65: GBP | D65: 0 | E65: 0
B66: 840 | C66: USD | D66: 0 | E66: 0
B67: 941 | C67: RSD | D67: 0 | E67: 0
B68: 977 | C68: BAM | D68: 0 | E68: 0
B69: 985 | C69: PLN | D69: 0 | E69: 0
B70: ostale | C70: valute | E70: 0
B71: Ukupno | E71: =SUM(E56:E70) -> 0
B72: Ukupno u milijunima eura | E72: =+E71/1000000 -> 0
B75: Ukupan promet ovlaštenih mjenjača u lipnju 2026.
B76: u milijunima eura
B78: Otkup strane gotovine i čekova | E78: =+E24+E72 -> 14.973613
B79: Prodaja strane gotovine | E79: =+E49 -> 2.916365

Sheet 3Q 2026
B2: Otkupljen strani gotov novac u III. tromjesečju 2026.
B4: Valuta | D4: Ukupan iznos otkupa
B5: Brojčana oznaka | C5: Troslovna oznaka | D5: U originalnoj valuti | E5: U eurima
B6: 036 | C6: AUD | D6: 6218740 | E6: 3682641
B7: 124 | C7: CAD | D7: 3259665 | E7: 1961736
B8: 203 | C8: CZK | D8: 12059520 | E8: 473881
B9: 208 | C9: DKK | D9: 57650 | E9: 5390
B10: 348 | C10: HUF | D10: 707515628 | E10: 1849764
B11: 392 | C11: JPY | D11: 7873040 | E11: 39140
B12: 578 | C12: NOK | D12: 101950 | E12: 6588
B13: 643 | C13: RUB | D13: 221260 | E13: 1631
B14: 752 | C14: SEK | D14: 171780 | E14: 10961
B15: 756 | C15: CHF | D15: 7766260 | E15: 8100964
B16: 826 | C16: GBP | D16: 2116492 | E16: 2366493
B17: 840 | C17: USD | D17: 34606912 | E17: 29140168
... B21: 985 | C21: PLN | D21: 1887450 | E21: 403977
B22: ostale | C22: valute | E22: 24563
B23: Ukupno | E23: =SUM(E6:E22) -> 50649787
B24: Ukupno u milijunima eura | E24: =+E23/1000000 -> 50.649787
B27: Prodan strani gotov novac u III. tromjesečju 2026.
B29: Valuta | D29: Ukupan iznos prodaje
B30: Brojčana oznaka | C30: Troslovna oznaka | D30: U originalnoj valuti | E30: U eurima
B31: 036 | C31: AUD | D31: 295880 | E31: 181705
B32: 124 | C32: CAD | D32: 283770 | E32: 177026
B33: 203 | C33: CZK | D33: 2146820 | E33: 90843
B34: 208 | C34: DKK | D34: 26200 | E34: 3616
B35: 348 | C35: HUF | D35: 552363362 | E35: 1483717
B36: 392 | C36: JPY | D36: 5486000 | E36: 31093
B37: 578 | C37: NOK | D37: 29950 | E37: 2827
B38: 643 | C38: RUB | D38: 43210 | E38: 514
B39: 752 | C39: SEK | D39: 125920 | E39: 11884
B40: 756 | C40: CHF | D40: 1025962 | E40: 1112491
B41: 826 | C41: GBP | D41: 526675 | E41: 624945
B42: 840 | C42: USD | D42: 2781555 | E42: 2444513
B43: 941 | C43: RSD | D43: 5060816 | E43: 46428
B44: 946 | C44: RON | D44: 9310 | E44: 1734
... B46: 985 | C46: PLN | D46: 349570 | E46: 82977
B47: ostale | C47: valute | E47: 25054
B48: Ukupno | E48: =SUM(E31:E47) -> 8515504
B49: Ukupno u milijunima eura | E49: =+E48/1000000 -> 8.515504
B52: Otkupljeni čekovi koji glase na stranu valutu u III. tromjesečju 2026.
B54: Valuta | D54: Ukupan iznos otkupa
B55: Brojčana oznaka | C55: Troslovna oznaka | D55: U originalnoj valuti | E55: U eurima
B56: 036 | C56: AUD | D56: 0 | E56: 0
B57: 124 | C57: CAD | D57: 0 | E57: 0
B58: 203 | C58: CZK | D58: 0 | E58: 0
B59: 208 | C59: DKK | D59: 0 | E59: 0
B60: 348 | C60: HUF | D60: 0 | E60: 0
B61: 392 | C61: JPY | D61: 0 | E61: 0
B62: 578 | C62: NOK | D62: 0 | E62: 0
B63: 752 | C63: SEK | D63: 0 | E63: 0
B64: 756 | C64: CHF | D64: 0 | E64: 0
B65: 826 | C65: GBP | D65: 0 | E65: 0
B66: 840 | C66: USD | D66: 0 | E66: 0
B67: 941 | C67: RSD | D67: 0 | E67: 0
B68: 977 | C68: BAM | D68: 0 | E68: 0
B69: 985 | C69: PLN | D69: 0 | E69: 0
B70: ostale | C70: valute | E70: 0
B71: Ukupno | E71: =SUM(E56:E70) -> 0
B72: Ukupno u milijunima eura | E72: =+E71/1000000 -> 0
B75: Ukupan promet ovlaštenih mjenjača u III. tromjesečju 2026.
B76: u milijunima eura
B78: Otkup strane gotovine i čekova | E78: =+E24+E72 -> 50.649787
B79: Prodaja strane gotovine | E79: =+E49 -> 8.515504

Sheet 2026
B2: Promet ovlaštenih mjenjača u 2026.
B3: u eurima
C5: Siječanj | D5: Veljača | E5: Ožujak | F5: Travanj | G5: Svibanj | H5: Lipanj | I5: III. tromjesečje (1) | J5: IV. tromjesečje
B6: Otkup stranog gotovog novca i čekova | C6: =+'siječanj 2026'!$E$24+'siječanj 2026'!$E$73 -> 11183193 | D6: =+'veljača 2026'!$E$24+'veljača 2026'!$E$73 -> 11550188 | E6: =+'ožujak 2026'!$E$24+'ožujak 2026'!$E$73 -> 12527536 | F6: =+'travanj 2026'!$E$24+'travanj 2026'!$E$73 -> 11608388 | G6: =+'svibanj 2026'!$E$23+'svibanj 2026'!$E$71 -> 13016150 | H6: =+'lipanj 2026'!$E$23+'lipanj 2026'!$E$71 -> 14973613 | I6: =+'3Q 2026'!$E$23+'3Q 2026'!$E$71 -> 50649787
B7: Prodaja stranog gotovog novca | C7: =+'siječanj 2026'!$E$50 -> 2274729 | D7: =+'veljača 2026'!$E$50 -> 2182262 | E7: =+'ožujak 2026'!$E$50 -> 2149815 | F7: =+'travanj 2026'!$E$50 -> 2337661 | G7: =+'svibanj 2026'!$E$48 -> 2125406 | H7: =+'lipanj 2026'!$E$48 -> 2916365 | I7: =+'3Q 2026'!$E$48 -> 8515504
B8: Ukupan promet ovlaštenih mjenjača | C8: =SUM(C6:C7) -> 13457922 | D8: =SUM(D6:D7) -> 13732450 | E8: =SUM(E6:E7) -> 14677351 | F8: =SUM(F6:F7) -> 13946049 | G8: =SUM(G6:G7) -> 15141556 | H8: =SUM(H6:H7) -> 17889978 | I8: =SUM(I6:I7) -> 59165291
B10: (1) Od srpnja 2026. podaci o prometu koju su ostvarili ovlašteni mjenjači ne prikupljaju se na mjesečnoj nego na tromjesečnoj razini.
B12: Promet po valutama
B13: u eurima i postotcima
B15: Valuta | C15: Siječanj | D15: Veljača | E15: Ožujak | F15: Travanj | G15: Svibanj | H15: Lipanj | I15: III. tromjesečje | J15: IV. tromjesečje | K15: Ukupno | L15: Udio
B16: AUD | C16: =+'siječanj 2026'!$E6+'siječanj 2026'!$E32 -> 496575 | D16: =+'veljača 2026'!$E6+'veljača 2026'!$E32 -> 508817 | E16: =+'ožujak 2026'!$E6+'ožujak 2026'!$E32 -> 506510 | F16: =+'travanj 2026'!$E6+'travanj 2026'!$E32 -> 490388 | G16: =+'svibanj 2026'!$E6+'svibanj 2026'!$E31 -> 616041 | H16: =+'lipanj 2026'!$E6+'lipanj 2026'!$E31 -> 649065 | I16: =+'3Q 2026'!$E6+'3Q 2026'!$E31 -> 3864346 | K16: =SUM(C16:J16) -> 7131742 | L16: =+(K16/K33)*100 -> 4.8184013
B17: CAD | C17: =+'siječanj 2026'!$E7+'siječanj 2026'!$E33 -> 211421 | D17: =+'veljača 2026'!$E7+'veljača 2026'!$E33 -> 297023 | E17: =+'ožujak 2026'!$E7+'ožujak 2026'!$E33 -> 441636 | F17: =+'travanj 2026'!$E7+'travanj 2026'!$E33 -> 337658 | G17: =+'svibanj 2026'!$E7+'svibanj 2026'!$E32 -> 478331 | H17: =+'lipanj 2026'!$E7+'lipanj 2026'!$E32 -> 582963 | I17: =+'3Q 2026'!$E7+'3Q 2026'!$E32 -> 2138762 | K17: =SUM(C17:J17) -> 4487794 | L17: =+(K17/K33)*100 -> 3.0320772
B18: CZK | C18: =+'siječanj 2026'!$E8+'siječanj 2026'!$E34 -> 17151 | D18: =+'veljača 2026'!$E8+'veljača 2026'!$E34 -> 15226 | E18: =+'ožujak 2026'!$E8+'ožujak 2026'!$E34 -> 36496 | F18: =+'travanj 2026'!$E8+'travanj 2026'!$E34 -> 97730 | G18: =+'svibanj 2026'!$E8+'svibanj 2026'!$E33 -> 52196 | H18: =+'lipanj 2026'!$E8+'lipanj 2026'!$E33 -> 147550 | I18: =+'3Q 2026'!$E8+'3Q 2026'!$E33 -> 564724 | K18: =SUM(C18:J18) -> 931073 | L18: =+(K18/K33)*100 -> 0.62905857
B19: DKK | C19: =+'siječanj 2026'!$E9+'siječanj 2026'!$E35 -> 16129 | D19: =+'veljača 2026'!$E9+'veljača 2026'!$E35 -> 13712 | E19: =+'ožujak 2026'!$E9+'ožujak 2026'!$E35 -> 32635 | F19: =+'travanj 2026'!$E9+'travanj 2026'!$E35 -> 2050 | G19: =+'svibanj 2026'!$E9+'svibanj 2026'!$E34 -> 4027 | H19: =+'lipanj 2026'!$E9+'lipanj 2026'!$E34 -> 3936 | I19: =+'3Q 2026'!$E9+'3Q 2026'!$E34 -> 9006 | K19: =SUM(C19:J19) -> 81495 | L19: =+(K19/K33)*100 -> 0.055060267
B20: HUF | C20: =+'siječanj 2026'!$E10+'siječanj 2026'!$E36 -> 679091 | D20: =+'veljača 2026'!$E10+'veljača 2026'!$E36 -> 788858 | E20: =+'ožujak 2026'!$E10+'ožujak 2026'!$E36 -> 645617 | F20: =+'travanj 2026'!$E10+'travanj 2026'!$E36 -> 895171 | G20: =+'svibanj 2026'!$E10+'svibanj 2026'!$E35 -> 1017671 | H20: =+'lipanj 2026'!$E10+'lipanj 2026'!$E35 -> 1148225 | I20: =+'3Q 2026'!$E10+'3Q 2026'!$E35 -> 3333481 | K20: =SUM(C20:J20) -> 8508114 | L20: =+(K20/K33)*100 -> 5.7483162
B21: JPY | C21: =+'siječanj 2026'!$E11+'siječanj 2026'!$E37 -> 21555 | D21: =+'veljača 2026'!$E11+'veljača 2026'!$E37 -> 6120 | E21: =+'ožujak 2026'!$E11+'ožujak 2026'!$E37 -> 19628 | F21: =+'travanj 2026'!$E11+'travanj 2026'!$E37 -> 12638 | G21: =+'svibanj 2026'!$E11+'svibanj 2026'!$E36 -> 17092 | H21: =+'lipanj 2026'!$E11+'lipanj 2026'!$E36 -> 15488 | I21: =+'3Q 2026'!$E11+'3Q 2026'!$E36 -> 70233 | K21: =SUM(C21:J21) -> 162754 | L21: =+(K21/K33)*100 -> 0.10996109
B22: NOK | C22: =+'siječanj 2026'!$E12+'siječanj 2026'!$E38 -> 2056 | D22: =+'veljača 2026'!$E12+'veljača 2026'!$E38 -> 1740 | E22: =+'ožujak 2026'!$E12+'ožujak 2026'!$E38 -> 4163 | F22: =+'travanj 2026'!$E12+'travanj 2026'!$E38 -> 1168 | G22: =+'svibanj 2026'!$E12+'svibanj 2026'!$E37 -> 1362 | H22: =+'lipanj 2026'!$E12+'lipanj 2026'!$E37 -> 3169 | I22: =+'3Q 2026'!$E12+'3Q 2026'!$E37 -> 9415 | K22: =SUM(C22:J22) -> 23073 | L22: =+(K22/K33)*100 -> 0.015588754
B23: RUB | C23: =+'siječanj 2026'!$E13+'siječanj 2026'!$E39 -> 2 | D23: =+'veljača 2026'!$E13+'veljača 2026'!$E39 -> 0 | E23: =+'ožujak 2026'!$E13+'ožujak 2026'!$E39 -> 81 | F23: =+'travanj 2026'!$E13+'travanj 2026'!$E39 -> 290 | G23: =+'svibanj 2026'!$E13+'svibanj 2026'!$E38 -> 711 | H23: =+'lipanj 2026'!$E13+'lipanj 2026'!$E38 -> 124 | I23: =+'3Q 2026'!$E13+'3Q 2026'!$E38 -> 2145 | K23: =SUM(C23:J23) -> 3353 | L23: =+(K23/K33)*100 -> 0.0022653792
B24: SEK | C24: =+'siječanj 2026'!$E14+'siječanj 2026'!$E40 -> 2048 | D24: =+'veljača 2026'!$E14+'veljača 2026'!$E40 -> 1483 | E24: =+'ožujak 2026'!$E14+'ožujak 2026'!$E40 -> 5793 | F24: =+'travanj 2026'!$E14+'travanj 2026'!$E40 -> 2746 | G24: =+'svibanj 2026'!$E14+'svibanj 2026'!$E39 -> 2145 | H24: =+'lipanj 2026'!$E14+'lipanj 2026'!$E39 -> 5021 | I24: =+'3Q 2026'!$E14+'3Q 2026'!$E39 -> 22845 | K24: =SUM(C24:J24) -> 42081 | L24: =+(K24/K33)*100 -> 0.028431083
B25: CHF | C25: =+'siječanj 2026'!$E15+'siječanj 2026'!$E41 -> 3220779 | D25: =+'veljača 2026'!$E15+'veljača 2026'!$E41 -> 2887292 | E25: =+'ožujak 2026'!$E15+'ožujak 2026'!$E41 -> 2445153 | F25: =+'travanj 2026'!$E15+'travanj 2026'!$E41 -> 2944510 | G25: =+'svibanj 2026'!$E15+'svibanj 2026'!$E40 -> 2422359 | H25: =+'lipanj 2026'!$E15+'lipanj 2026'!$E40 -> 2687505 | I25: =+'3Q 2026'!$E15+'3Q 2026'!$E40 -> 9213455 | K25: =SUM(C25:J25) -> 25821053 | L25: =+(K25/K33)*100 -> 17.445415
B26: GBP | C26: =+'siječanj 2026'!$E16+'siječanj 2026'!$E42 -> 482896 | D26: =+'veljača 2026'!$E16+'veljača 2026'!$E42 -> 434118 | E26: =+'ožujak 2026'!$E16+'ožujak 2026'!$E42 -> 701218 | F26: =+'travanj 2026'!$E16+'travanj 2026'!$E42 -> 775410 | G26: =+'svibanj 2026'!$E16+'svibanj 2026'!$E41 -> 797095 | H26: =+'lipanj 2026'!$E16+'lipanj 2026'!$E41 -> 813116 | I26: =+'3Q 2026'!$E16+'3Q 2026'!$E41 -> 2991438 | K26: =SUM(C26:J26) -> 6995291 | L26: =+(K26/K33)*100 -> 4.7262113
B27: USD | C27: =+'siječanj 2026'!$E17+'siječanj 2026'!$E43 -> 6829461 | D27: =+'veljača 2026'!$E17+'veljača 2026'!$E43 -> 7407706 | E27: =+'ožujak 2026'!$E17+'ožujak 2026'!$E43 -> 8324177 | F27: =+'travanj 2026'!$E17+'travanj 2026'!$E43 -> 6583259 | G27: =+'svibanj 2026'!$E17+'svibanj 2026'!$E42 -> 8220903 | H27: =+'lipanj 2026'!$E17+'lipanj 2026'!$E42 -> 10213039 | I27: =+'3Q 2026'!$E17+'3Q 2026'!$E42 -> 31584681 | K27: =SUM(C27:J27) -> 79163226 | L27: =+(K27/K33)*100 -> 53.484856
B28: RSD | C28: =+'siječanj 2026'!$E18+'siječanj 2026'!$E44 -> 11020 | D28: =+'veljača 2026'!$E18+'veljača 2026'!$E44 -> 11227 | E28: =+'ožujak 2026'!$E18+'ožujak 2026'!$E44 -> 28725 | F28: =+'travanj 2026'!$E18+'travanj 2026'!$E44 -> 34255 | G28: =+'svibanj 2026'!$E18+'svibanj 2026'!$E43 -> 35516 | H28: =+'lipanj 2026'!$E18+'lipanj 2026'!$E43 -> 28719 | I28: =+'3Q 2026'!$E18+'3Q 2026'!$E43 -> 105780 | K28: =SUM(C28:J28) -> 255242 | L28: =+(K28/K33)*100 -> 0.17244853
B29: RON | C29: =+'siječanj 2026'!$E19+'siječanj 2026'!$E45 -> 0 | D29: =+'veljača 2026'!$E19+'veljača 2026'!$E45 -> 0 | E29: =+'ožujak 2026'!$E19+'ožujak 2026'!$E45 -> 900 | F29: =+'travanj 2026'!$E19+'travanj 2026'!$E45 -> 1435 | G29: =+'svibanj 2026'!$E19+'svibanj 2026'!$E44 -> 965 | H29: =+'lipanj 2026'!$E19+'lipanj 2026'!$E44 -> 430 | I29: =+'3Q 2026'!$E19+'3Q 2026'!$E44 -> 3338 | K29: =SUM(C29:J29) -> 7068 | L29: =+(K29/K33)*100 -> 0.0047753355
B30: BAM | C30: =+'siječanj 2026'!$E21+'siječanj 2026'!$E47 -> 1404118 | D30: =+'veljača 2026'!$E21+'veljača 2026'!$E47 -> 1300905 | E30: =+'ožujak 2026'!$E21+'ožujak 2026'!$E47 -> 1415012 | F30: =+'travanj 2026'!$E21+'travanj 2026'!$E47 -> 1662807 | G30: =+'svibanj 2026'!$E20+'svibanj 2026'!$E45 -> 1413225 | H30: =+'lipanj 2026'!$E20+'lipanj 2026'!$E45 -> 1480690 | I30: =+'3Q 2026'!$E20+'3Q 2026'!$E45 -> 4715071 | K30: =SUM(C30:J30) -> 13391828 | L30: =+(K30/K33)*100 -> 9.0478879
B31: PLN | C31: =+'siječanj 2026'!$E22+'siječanj 2026'!$E48 -> 63440 | D31: =+'veljača 2026'!$E22+'veljača 2026'!$E48 -> 58137 | E31: =+'ožujak 2026'!$E22+'ožujak 2026'!$E48 -> 61767 | F31: =+'travanj 2026'!$E22+'travanj 2026'!$E48 -> 96103 | G31: =+'svibanj 2026'!$E21+'svibanj 2026'!$E46 -> 48959 | H31: =+'lipanj 2026'!$E21+'lipanj 2026'!$E46 -> 102515 | I31: =+'3Q 2026'!$E21+'3Q 2026'!$E46 -> 486954 | K31: =SUM(C31:J31) -> 917875 | L31: =+(K31/K33)*100 -> 0.62014163
B32: ostale valute | C32: =+'siječanj 2026'!$E23+'siječanj 2026'!$E49 -> 126 | D32: =+'veljača 2026'!$E23+'veljača 2026'!$E49 -> 86 | E32: =+'ožujak 2026'!$E23+'ožujak 2026'!$E49 -> 7840 | F32: =+'travanj 2026'!$E23+'travanj 2026'!$E49 -> 8431 | G32: =+'svibanj 2026'!$E22+'svibanj 2026'!$E47 -> 12958 | H32: =+'lipanj 2026'!$E22+'lipanj 2026'!$E47 -> 8423 | I32: =+'3Q 2026'!$E22+'3Q 2026'!$E47 -> 49617 | K32: =SUM(C32:J32) -> 87481 | L32: =+(K32/K33)*100 -> 0.059104573
B33: Ukupan promet ovlaštenih mjenjača | C33: =SUM(C16:C32) -> 13457868 | D33: =SUM(D16:D32) -> 13732450 | E33: =SUM(E16:E32) -> 14677351 | F33: =SUM(F16:F32) -> 13946049 | G33: =SUM(G16:G32) -> 15141556 | H33: =SUM(H16:H32) -> 17889978 | I33: =SUM(I16:I32) -> 59165291 | J33: =SUM(J16:J32) -> 0 | ... L33: =SUM(L16:L32) -> 100
B36: Udio valuta u ukupnom prometu ovlaštenih mjenjača
B37: u postotcima
B39: Valuta | C39: Siječanj | D39: Veljača | E39: Ožujak | F39: Travanj | G39: Svibanj | H39: Lipanj | I39: III. tromjesečje | J39: IV. tromjesečje
B40: USD | C40: =+(C27/C8)*100 -> 50.746772 | D40: =+(D27/D8)*100 -> 53.943076 | E40: =+(E27/E8)*100 -> 56.714437 | F40: =+(F27/F8)*100 -> 47.205191 | G40: =+(G27/G8)*100 -> 54.293647 | H40: =+(H27/H8)*100 -> 57.088047 | I40: =+(I27/I8)*100 -> 53.383801
B41: CHF | C41: =+(C25/C8)*100 -> 23.932216 | D41: =+(D25/D8)*100 -> 21.025323 | E41: =+(E25/E8)*100 -> 16.659362 | F41: =+(F25/F8)*100 -> 21.113578 | G41: =+(G25/G8)*100 -> 15.998085 | H41: =+(H25/H8)*100 -> 15.022405 | I41: =+(I25/I8)*100 -> 15.572399
B42: Ostale valute | C42: =100-C40-C41 -> 25.321012 | D42: =100-D40-D41 -> 25.0316 | E42: =100-E40-E41 -> 26.626201 | F42: =100-F40-F41 -> 31.681231 | G42: =100-G40-G41 -> 29.708268 | H42: =100-H40-H41 -> 27.889548 | I42: =100-I40-I41 -> 31.043801
B43: Ukupno | C43: =SUM(C40:C42) -> 100 | D43: =SUM(D40:D42) -> 100 | E43: =SUM(E40:E42) -> 100 | F43: =SUM(F40:F42) -> 100 | G43: =SUM(G40:G42) -> 100 | H43: =SUM(H40:H42) -> 100 | I43: =SUM(I40:I42) -> 100 | J43: =SUM(J40:J42) -> 0
B46: Odnos otkupa i prodaje stranog gotovog novca i čekova
B47: u postotcima
C49: Siječanj | D49: Veljača | E49: Ožujak | F49: Travanj | G49: Svibanj | H49: Lipanj | I49: III. tromjesečje | J49: IV. tromjesečje
B50: Otkup stranog gotovog novca | C50: =+('siječanj 2026'!$E$24/'2026'!C8)*100 -> 83.097472 | D50: =+('veljača 2026'!$E$24/'2026'!D8)*100 -> 84.108721 | E50: =+('ožujak 2026'!$E$24/'2026'!E8)*100 -> 85.352841 | F50: =+('travanj 2026'!$E$24/'2026'!F8)*100 -> 83.237826 | G50: =+('svibanj 2026'!$E$23/'2026'!G8)*100 -> 85.963094 | H50: =+('lipanj 2026'!$E$23/'2026'!H8)*100 -> 83.698331 | I50: =+('3Q 2026'!$E$23/'2026'!I8)*100 -> 85.607264
B51: Prodaja stranog gotovog novca | C51: =+('siječanj 2026'!$E$50/'2026'!C8)*100 -> 16.902528 | D51: =+('veljača 2026'!$E$50/'2026'!D8)*100 -> 15.891279 | E51: =+('ožujak 2026'!$E$50/'2026'!E8)*100 -> 14.647159 | F51: =+('travanj 2026'!$E$50/'2026'!F8)*100 -> 16.762174 | G51: =+('svibanj 2026'!$E$48/'2026'!G8)*100 -> 14.036906 | H51: =+('lipanj 2026'!$E$48/'2026'!H8)*100 -> 16.301669 | I51: =+('3Q 2026'!$E$48/'2026'!I8)*100 -> 14.392736
B52: Otkup čekova | C52: =+('siječanj 2026'!$E$73/'2026'!C8)*100 -> 0 | D52: =+('veljača 2026'!$E$73/'2026'!D8)*100 -> 0 | E52: =+('ožujak 2026'!$E$73/'2026'!E8)*100 -> 0 | F52: =+('travanj 2026'!$E$73/'2026'!F8)*100 -> 0 | G52: =+('svibanj 2026'!$E$71/'2026'!G8)*100 -> 0 | H52: =+('lipanj 2026'!$E$71/'2026'!H8)*100 -> 0 | I52: =+('3Q 2026'!$E$71/'2026'!I8)*100 -> 0
B53: Ukupno | C53: =SUM(C50:C52) -> 100 | D53: =SUM(D50:D52) -> 100 | E53: =SUM(E50:E52) -> 100 | F53: =SUM(F50:F52) -> 100 | G53: =SUM(G50:G52) -> 100 | H53: =SUM(H50:H52) -> 100 | I53: =SUM(I50:I52) -> 100 | J53: =SUM(J50:J52) -> 0
